BEGIN:VCALENDAR
PRODID:-//eluceo/ical//2.0/EN
VERSION:2.0
CALSCALE:GREGORIAN
BEGIN:VEVENT
UID:bdca00c0bae80c59ca9534b1a73ac2f6
DTSTAMP:20260420T071036Z
SUMMARY:Lunch and Literature
DESCRIPTION:UJA Federation of Greater Toronto\nJewish Toronto Calendar\nhtt
 ps://jewishtoronto.com/calendar/lunch-and-literature-1505344677\n\nThe Lib
 rary Committee invites you to join us for this outstanding series featurin
 g noted authors and commentators\; savour a delicious lunch\, followed by 
 a fascinating look into an array of culturally relevant literature.\n\nLun
 ch is served at 1:00 pm with the book reviews to follow at 1:30 pm.\nCost 
 for the series:\n$72 for synagogue members. $100 for non-members. Individu
 al sessions: $25 each.\nRegistration can be made from our web site (www.be
 by.org) or through the office at 416.633.3838.\n...
DTSTART;TZID=America/Toronto:20180510T130000
DTEND;TZID=America/Toronto:20180510T130000
END:VEVENT
END:VCALENDAR
