BEGIN:VCALENDAR
PRODID:-//eluceo/ical//2.0/EN
VERSION:2.0
CALSCALE:GREGORIAN
BEGIN:VEVENT
UID:1fcc569cc61d4a8419d801c2c5362aff
DTSTAMP:20260423T145026Z
SUMMARY:Lunch and Literature
DESCRIPTION:UJA Federation of Greater Toronto\nJewish Toronto Calendar\nhtt
 ps://jewishtoronto.com/calendar/lunch-and-literature-1505343954\n\nThe Lib
 rary Committee invites you to join us for this outstanding series featurin
 g noted authors and commentators\; savour a delicious lunch\, followed by 
 a fascinating look into an array of culturally relevant literature.\n\nLun
 ch is served at 1:00 pm with the book reviews to follow at 1:30 pm.\nCost 
 for the series:\n$72 for synagogue members. $100 for non-members. Individu
 al sessions: $25 each.\nRegistration can be made from our web site (www.be
 by.org) or through the office at 416.633.3838.\n...
DTSTART;TZID=America/Toronto:20180308T130000
DTEND;TZID=America/Toronto:20180308T150000
END:VEVENT
END:VCALENDAR
