BEGIN:VCALENDAR
PRODID:-//eluceo/ical//2.0/EN
VERSION:2.0
CALSCALE:GREGORIAN
BEGIN:VEVENT
UID:7ce340bfc1fe6b9547ed275e531b5423
DTSTAMP:20260425T115705Z
SUMMARY:Lunch and Learn at Beth Tikvah Synagogue
DESCRIPTION:UJA Federation of Greater Toronto\nJewish Toronto Calendar\nhtt
 ps://jewishtoronto.com/calendar/lunch-and-learn-at-beth-tikvah-synagogue-1
 500397901\n\nMargo Gewurtz\n\nNovember 21\n\nChina and the Zionist Project
 : York University Professor Emerita Gewurtz will tell us of the little kno
 wn story of Chinese support for the idea of a Jewish state\, the critical 
 votes at the UN and the Canadian whose connection to China played a crucia
 l role.\n\nTHIS SERIES HAS BEEN GENEROUSLY SPONSORED BY HELEN STOLLAR.\n\n
 Early Bird Registration deadline is August 31 for members and non-members!
  To see full pricing and details\, or for more information\, visit th...
DTSTART;TZID=America/Toronto:20171121T120000
DTEND;TZID=America/Toronto:20171121T140000
END:VEVENT
END:VCALENDAR
