BEGIN:VCALENDAR
PRODID:-//eluceo/ical//2.0/EN
VERSION:2.0
CALSCALE:GREGORIAN
BEGIN:VEVENT
UID:79ebf81713794731c132df5253f19f59
DTSTAMP:20260420T070244Z
SUMMARY:Lunch and Learn at Beth Tikvah Synagogue
DESCRIPTION:UJA Federation of Greater Toronto\nJewish Toronto Calendar\nhtt
 ps://jewishtoronto.com/calendar/lunch-and-learn-at-beth-tikvah-synagogue-1
 500397454\n\nSara Angel\n\nNovember 14\n\nThe Max Stern Art Restitution Pr
 oject: Founder and Executive Director of the Art Canada Institute at the U
  of T\, Dr. Sara Angel will talk about Dusseldorf art dealer Max Stern’s
  forced sale of his family paintings and his heirs’ becoming world leadi
 ng advocates in reclamation of Holocaust-era stolen cultural property.\n\n
 THIS SERIES HAS BEEN GENEROUSLY SPONSORED BY HELEN STOLLAR.\n\nEarly Bird 
 Registration deadline is August 31 for members and non-members! To ...
DTSTART;TZID=America/Toronto:20171114T120000
DTEND;TZID=America/Toronto:20171114T140000
END:VEVENT
END:VCALENDAR
