BEGIN:VCALENDAR
PRODID:-//eluceo/ical//2.0/EN
VERSION:2.0
CALSCALE:GREGORIAN
BEGIN:VEVENT
UID:8cfb0f63021528508e1e5810c2187c3a
DTSTAMP:20260424T070718Z
SUMMARY:Lunch and Learn at Beth Tikvah Synagogue
DESCRIPTION:UJA Federation of Greater Toronto\nJewish Toronto Calendar\nhtt
 ps://jewishtoronto.com/calendar/lunch-and-learn-at-beth-tikvah-synagogue-1
 500392750\n\nRaheel Raza\n\nOctober 31\n\nIs Political Correctness Choking
  Honest Debate?: Author of “Their Jihad...Not My Jihad”\, Raheel Raza 
 and her husband are the first Muslim couple to be honoured by a Canadian J
 ewish organization for their work to eradicate extremism and promote human
  rights.\n\nTHIS SERIES HAS BEEN GENEROUSLY SPONSORED BY HELEN STOLLAR.\n\
 nEarly Bird Registration deadline is August 31 for members and non-members
 ! To see full pricing and details\, or for more information\, visit t...
DTSTART;TZID=America/Toronto:20171031T120000
DTEND;TZID=America/Toronto:20171031T140000
END:VEVENT
END:VCALENDAR
