BEGIN:VCALENDAR
PRODID:-//eluceo/ical//2.0/EN
VERSION:2.0
CALSCALE:GREGORIAN
BEGIN:VEVENT
UID:a7605e9cb64f3f2351e65a7f7e923069
DTSTAMP:20260425T190226Z
SUMMARY:Lunch and Learn at Beth Tikvah Synagogue
DESCRIPTION:UJA Federation of Greater Toronto\nJewish Toronto Calendar\nhtt
 ps://jewishtoronto.com/calendar/lunch-and-learn-at-beth-tikvah-synagogue-1
 500391951\n\nRabbi Jennifer Gorman\n\nOctober 24\n\nOur Kotel: Yesterday\,
  Today\, and Tomorrow: Rabbi Jennifer Gorman\, Executive Director of MERCA
 Z-Masorti\, will discuss the Kotel as the historic symbol of both the divi
 sions and the quest within our homeland for equality for all Jews. As we c
 elebrate the 50th Anniversary of the reunification of Jerusalem\, we remem
 ber the renewed ability to pray at the Kotel.\n\nTHIS SERIES HAS BEEN GENE
 ROUSLY SPONSORED BY HELEN STOLLAR.\n\nEarly Bird Registration deadline ...
DTSTART;TZID=America/Toronto:20171024T120000
DTEND;TZID=America/Toronto:20171024T140000
END:VEVENT
END:VCALENDAR
