BEGIN:VCALENDAR
PRODID:-//eluceo/ical//2.0/EN
VERSION:2.0
CALSCALE:GREGORIAN
BEGIN:VEVENT
UID:697bdc7f6e8006476e9fe6589895c0f7
DTSTAMP:20260421T023157Z
SUMMARY:Lunch and Learn at Beth Tikvah Synagogue
DESCRIPTION:UJA Federation of Greater Toronto\nJewish Toronto Calendar\nhtt
 ps://jewishtoronto.com/calendar/lunch-and-learn-at-beth-tikvah-synagogue-1
 500391488\n\nJacob Steinberg\n\nOctober 17\n\nCelebrating 388 years of Jew
 ish life in Suriname: Jacob Steinberg presents the fascinating history of 
 the oldest\ncontinuously existing Jewish community in the Americas: Surina
 me in South America. From the first settlers in the old capital Torarica (
 1639) to Jodensavanne (200 year-old Jewish community in the Amazon basin j
 ungle) ending with the Jewish community in Suriname today.\n\nTHIS SERIES 
 HAS BEEN GENEROUSLY SPONSORED BY HELEN STOLLAR.\n\nEarly Bird Regi...
DTSTART;TZID=America/Toronto:20171017T120000
DTEND;TZID=America/Toronto:20171017T140000
END:VEVENT
END:VCALENDAR
