BEGIN:VCALENDAR
PRODID:-//eluceo/ical//2.0/EN
VERSION:2.0
CALSCALE:GREGORIAN
BEGIN:VEVENT
UID:07526261332ccd4dc4c4e7eb3282c78d
DTSTAMP:20260421T133844Z
SUMMARY:Lunch and Learn at Beth Tikvah Synagogue
DESCRIPTION:UJA Federation of Greater Toronto\nJewish Toronto Calendar\nhtt
 ps://jewishtoronto.com/calendar/lunch-and-learn-at-beth-tikvah-synagogue-1
 500390683\n\nMike Daley\n\nOctober 10\n\nBarbra Streisand: Mike Daley teac
 hes popular music history at York University and has published several art
 icles and book chapters. In this presentation\, he tells the amazing story
  of the beloved performer\, Barbra Streisand\, with video and photographs.
 \n\nTHIS SERIES HAS BEEN GENEROUSLY SPONSORED BY HELEN STOLLAR.\n\nEarly B
 ird Registration deadline is August 31 for members and non-members! To see
  full pricing and details\, or for more information\, visit the Beth Ti...
DTSTART;TZID=America/Toronto:20171010T120000
DTEND;TZID=America/Toronto:20171010T140000
END:VEVENT
END:VCALENDAR
