BEGIN:VCALENDAR
PRODID:-//eluceo/ical//2.0/EN
VERSION:2.0
CALSCALE:GREGORIAN
BEGIN:VEVENT
UID:6a9a5bf74dbddac2479e700722fb141c
DTSTAMP:20260425T201622Z
SUMMARY:Lunch and Learn at Beth Tikvah Synagogue
DESCRIPTION:UJA Federation of Greater Toronto\nJewish Toronto Calendar\nhtt
 ps://jewishtoronto.com/calendar/lunch-and-learn-at-beth-tikvah-synagogue-1
 455045161\n\nThis series has been generously sponsored by Helen Stollar.\n
 \nEyal Bitton and\nMichele Tredger\n\nApril 19\n\nJewish Women in Song:\nC
 antor Eyal Bitton and Michèle Tredger present a musical lecture/recital f
 eaturing music made famous by a diverse array of gifted Jewish women such 
 as Barbra Streisand\, Dinah Shore\, Bette Midler\, Lesley Gore\, and Idina
  Menzel.\n\n8-pack: Early bird price\n(Until Feb. 29 only)\nBeth Tikvah Me
 mber - $99\nCommunity Member $119\n\n(Regular price\, March 1\, 2016:\nB..
 .
DTSTART;TZID=America/Toronto:20160419T121000
DTEND;TZID=America/Toronto:20160419T141000
END:VEVENT
END:VCALENDAR
