BEGIN:VCALENDAR
PRODID:-//eluceo/ical//2.0/EN
VERSION:2.0
CALSCALE:GREGORIAN
BEGIN:VEVENT
UID:22ffe41eb7d959fe0602a5119c6c6a06
DTSTAMP:20260424T013804Z
SUMMARY:Lunch & Literature: Session 2
DESCRIPTION:UJA Federation of Greater Toronto\nJewish Toronto Calendar\nhtt
 ps://jewishtoronto.com/calendar/lunch--literature-session-2-1633640234\n\n
 Join us as Sylvia Solomon reviews the book "The Trial of Leo Frank."
DTSTART;TZID=America/Toronto:20211209T133000
DTEND;TZID=America/Toronto:20211209T153000
END:VEVENT
END:VCALENDAR
