BEGIN:VCALENDAR
PRODID:-//eluceo/ical//2.0/EN
VERSION:2.0
CALSCALE:GREGORIAN
BEGIN:VEVENT
UID:1e52d85a9be3354aacfb34f64bc5fe4f
DTSTAMP:20260423T004941Z
SUMMARY:Lunch & Learn at Beth Tikvah Synagogue
DESCRIPTION:UJA Federation of Greater Toronto\nJewish Toronto Calendar\nhtt
 ps://jewishtoronto.com/calendar/lunch--learn-at-beth-tikvah-synagogue-1512
 485328\n\nTHIS SERIES HAS BEEN GENEROUSLY SPONSPORED BY HELEN STOLLAR.\n\n
 Corey Keeble\n\nMay 29\n\nThe Weinberg Judaica Collection at the ROM: ROM 
 has published it’s first catalogue of the Judaica collection given to it
  by Dr. Fred and Joy Cherry Weinberg. As the author of the catalogue\, Cur
 ator Keeble will examine the collection through multiple contexts. He stud
 ied both Hebrew and Yiddish in connection with his work on the Dr. Fred We
 inberg & Joy Cherry Weinberg Judaica Collection. We welcome him ...
DTSTART;TZID=America/Toronto:20180529T120000
DTEND;TZID=America/Toronto:20180529T140000
END:VEVENT
END:VCALENDAR
