BEGIN:VCALENDAR
PRODID:-//eluceo/ical//2.0/EN
VERSION:2.0
CALSCALE:GREGORIAN
BEGIN:VEVENT
UID:1beaf856adba67f6a8d5ba43259e3033
DTSTAMP:20260426T033000Z
SUMMARY:Beth Tikvah Synagogue - Lunch & Learn
DESCRIPTION:UJA Federation of Greater Toronto\nJewish Toronto Calendar\nhtt
 ps://jewishtoronto.com/calendar/lunch--learn-at-beth-tikvah-synagogue-1469
 113475\n\nSharon Hampson & Bram Morrison\n\nOur Life in Music: Sharon Hamp
 son and Bram Morrison will discuss the challenge of balancing family life 
 and life on the road\, their adventures in learning the business of record
 ing\, touring\, television\, public service\, and their pleasure at having
  been able to earn their livings doing something they love.\n\nPlease call
  the Synagogue Office for pricing and details:\nBy reservation only: 416-2
 21-3433 or renee@bethtikvahtoronto.org
DTSTART;TZID=America/Toronto:20161101T121000
DTEND;TZID=America/Toronto:20161101T141000
END:VEVENT
END:VCALENDAR
