BEGIN:VCALENDAR
PRODID:-//eluceo/ical//2.0/EN
VERSION:2.0
CALSCALE:GREGORIAN
BEGIN:VEVENT
UID:1f92a8e92b2008f2de698a8213b01288
DTSTAMP:20260424T205603Z
SUMMARY:Beth Tikvah Synagogue - Lunch & Learn
DESCRIPTION:UJA Federation of Greater Toronto\nJewish Toronto Calendar\nhtt
 ps://jewishtoronto.com/calendar/lunch--learn-at-beth-tikvah-synagogue-1469
 112964\n\nMike Daley\, PhD.\n\nThe Life And Music of Irving Berlin: Mike D
 aley teaches popular music history at York University and has published se
 veral articles and book chapters. In this presentation he tells the amazin
 g story of the beloved songwriter Irving Berlin and performs several of hi
 s songs on voice and guitar.\n\nPlease call the Synagogue Office for prici
 ng and details:\nBy reservation only: 416-221-3433 or renee@bethtikvahtoro
 nto.org
DTSTART;TZID=America/Toronto:20160920T121000
DTEND;TZID=America/Toronto:20160920T141000
END:VEVENT
END:VCALENDAR
