BEGIN:VCALENDAR
PRODID:-//eluceo/ical//2.0/EN
VERSION:2.0
CALSCALE:GREGORIAN
BEGIN:VEVENT
UID:da02d9d92bb2624f9cc8edb4c25c3d3c
DTSTAMP:20260423T160015Z
SUMMARY:Lumière: The Art of Light
DESCRIPTION:UJA Federation of Greater Toronto\nJewish Toronto Calendar\nhtt
 ps://jewishtoronto.com/calendar/lumire-the-art-of-light-1676173172\n\nExpl
 ore Lumière: The Art of Light (formerly Winter Light Exhibition) in its n
 ew home in Trillium Park! This free outdoor light exhibition allows visito
 rs to explore the park and experience art developed by Ontario\nartists.
DTSTART;TZID=America/Toronto:20230310T180000
DTEND;TZID=America/Toronto:20230507T230000
END:VEVENT
END:VCALENDAR
