BEGIN:VCALENDAR
PRODID:-//eluceo/ical//2.0/EN
VERSION:2.0
CALSCALE:GREGORIAN
BEGIN:VEVENT
UID:2f1e2d39e4f4a45b1a1ce1fd88e5b171
DTSTAMP:20260420T121519Z
SUMMARY:Louis B. Mayer and Irving Thalberg: The Whole Equation\, with Kenne
 th Turan
DESCRIPTION:UJA Federation of Greater Toronto\nJewish Toronto Calendar\nhtt
 ps://jewishtoronto.com/calendar/louis-b-mayer-and-irving-thalberg-the-whol
 e-equation-with-kenneth-turan-1745350738\n\nJoin former Los Angeles Times 
 film critic Kenneth Turan for a conversation about his new book Louis B. M
 ayer and Irving Thalberg: The Whole Equation.\n\n\nOne was a tough junkman
 ’s son\, the other a cosseted mama’s boy\, but they dreamed the same m
 ighty dream: that the right movies could make a profit and change both the
  culture and individual lives. Sharing a religion and an evangelical zeal 
 for film\, Louis B. Mayer (1884–1957) and Irving Thalberg (1899–1936) 
 were unlikely partners in ...
DTSTART;TZID=America/Toronto:20250511T140000
DTEND;TZID=America/Toronto:20250511T160000
END:VEVENT
END:VCALENDAR
