BEGIN:VCALENDAR
PRODID:-//eluceo/ical//2.0/EN
VERSION:2.0
CALSCALE:GREGORIAN
BEGIN:VEVENT
UID:b06b8a62528f78be3273c9edf6c81825
DTSTAMP:20260422T003525Z
SUMMARY:Lodzer Centre Crash Course in Jewish History #6
DESCRIPTION:UJA Federation of Greater Toronto\nJewish Toronto Calendar\nhtt
 ps://jewishtoronto.com/calendar/lodzer-centre-crash-course-in-jewish-histo
 ry-6\n\nLecture #6: The Jewish Diaspora.This lecture and discussion series
  on Jewish History prepared and delivered by Judy Hazan will cover the per
 iod of time from The Kingdom of David a thousand years before the Common E
 ra until the spread of Jews into other lands in the first century of the C
 ommon Era. This week: The difference between exile and Diaspora - and the 
 Jewish communities that developed outside of Israel. Sponsored by Lodzer C
 entre Congregation
DTSTART;TZID=America/Toronto:20140301T093000
DTEND;TZID=America/Toronto:20140301T113000
END:VEVENT
END:VCALENDAR
