BEGIN:VCALENDAR
PRODID:-//eluceo/ical//2.0/EN
VERSION:2.0
CALSCALE:GREGORIAN
BEGIN:VEVENT
UID:81553851245b5a8d4887bfda02bfdba2
DTSTAMP:20260421T034843Z
SUMMARY:Lodzer Centre Crash Course in Jewish History
DESCRIPTION:UJA Federation of Greater Toronto\nJewish Toronto Calendar\nhtt
 ps://jewishtoronto.com/calendar/lodzer-centre-crash-course-in-jewish-histo
 ry\n\nLecture #5: The Great Revolt and Masada. This lecture and discussion
  series on Jewish History prepared and delivered by Judy Hazan will cover 
 the period of time from The Kingdom of David a thousand years before the C
 ommon Era until the spread of Jews into other lands in the first century o
 f the Common Era. This week: Open warfare between the Jews and Romans (66 
 to 132 CE) and the role of the Zealots and the Sicarii leading to the dram
 a of Masada.
DTSTART;TZID=America/Toronto:20140222T093000
DTEND;TZID=America/Toronto:20140222T110000
END:VEVENT
END:VCALENDAR
