BEGIN:VCALENDAR
PRODID:-//eluceo/ical//2.0/EN
VERSION:2.0
CALSCALE:GREGORIAN
BEGIN:VEVENT
UID:1b973230c3622e8dd8783d3f0f756747
DTSTAMP:20260421T004546Z
SUMMARY:UJA ILR Donor Event -  Atlanta Fly In
DESCRIPTION:UJA Federation of Greater Toronto\nJewish Toronto Calendar\nhtt
 ps://jewishtoronto.com/calendar/lockheed-martin-facility-in-atlanta---fly-
 in-1472655541\n\n \n\nA special visit offered to exclusive UJA donors to 
 Lockheed Martin Facility in Atlanta Georgia\n\nBy invitation only. Inquiri
 es: mbenaich@ujafed.org
DTSTART;TZID=America/Toronto:20161117T080000
DTEND;TZID=America/Toronto:20161117T235900
END:VEVENT
END:VCALENDAR
