BEGIN:VCALENDAR
PRODID:-//eluceo/ical//2.0/EN
VERSION:2.0
CALSCALE:GREGORIAN
BEGIN:VEVENT
UID:67802f5abd77632d5d47f77ded1f4672
DTSTAMP:20260419T183117Z
SUMMARY:#LNO Ladies Night Out in Support of Hasbara Canada
DESCRIPTION:UJA Federation of Greater Toronto\nJewish Toronto Calendar\nhtt
 ps://jewishtoronto.com/calendar/lno-ladies-night-out-in-support-of-hasbara
 -canada-1675816753\n\nOur goal is to create a community of like-minded epi
 c women who will inspire and be inspired!
DTSTART;TZID=America/Toronto:20230223T193000
DTEND;TZID=America/Toronto:20230223T220000
END:VEVENT
END:VCALENDAR
