BEGIN:VCALENDAR
PRODID:-//eluceo/ical//2.0/EN
VERSION:2.0
CALSCALE:GREGORIAN
BEGIN:VEVENT
UID:9e7dc717161f1f889f1203bb7ec00d06
DTSTAMP:20260421T210441Z
SUMMARY:LIVING WITH AND TREATING CHRONIC PAIN
DESCRIPTION:UJA Federation of Greater Toronto\nJewish Toronto Calendar\nhtt
 ps://jewishtoronto.com/calendar/living-with-and-treating-chronic-pain-1471
 537136\n\nWe are honoured to have as our speaker Dr. Steven Blitzer\,\n a 
 board certified chronic pain specialist physician.\nHis focus is on treati
 ng chronic pain and rehabilitation.\nHe is on the active staff of a local 
 pain clinic\, as well as being\non staff at York Central Hospital and St. 
 Joseph's Health Centre in Toronto.\n
DTSTART;TZID=America/Toronto:20160928T193000
DTEND;TZID=America/Toronto:20160928T213000
END:VEVENT
END:VCALENDAR
