BEGIN:VCALENDAR
PRODID:-//eluceo/ical//2.0/EN
VERSION:2.0
CALSCALE:GREGORIAN
BEGIN:VEVENT
UID:9d7dd621f8ab06bc2a33fc0406824aa3
DTSTAMP:20260422T233807Z
SUMMARY:Live and Let Chai
DESCRIPTION:UJA Federation of Greater Toronto\nJewish Toronto Calendar\nhtt
 ps://jewishtoronto.com/calendar/live-and-let-chai-1457558893\n\nPresented 
 by Varsity Jews A Capella\nAl Green Theatre in the Miles Nadal JCC\nJoin t
 he Varsity Jews at their annual fundraising concert\; this year supporting
  Jewish Immigrant Aid Services of Canada.\nInfo:
DTSTART;TZID=America/Toronto:20160327T160000
DTEND;TZID=America/Toronto:20160327T180000
END:VEVENT
END:VCALENDAR
