BEGIN:VCALENDAR
PRODID:-//eluceo/ical//2.0/EN
VERSION:2.0
CALSCALE:GREGORIAN
BEGIN:VEVENT
UID:8ceedc664a27c80129449e89342b0c47
DTSTAMP:20260422T205930Z
SUMMARY:Lip Sync Heroes Gala
DESCRIPTION:UJA Federation of Greater Toronto\nJewish Toronto Calendar\nhtt
 ps://jewishtoronto.com/calendar/lip-sync-heroes-gala-1488920757\n\nLip Syn
 c Heroes is a one-of-a-kind gala that will have four high-profile contesta
 nts compete in an epic lip sync battle to beat cancer! Decided by audience
  votes\, the contestant who makes it all the way to the end will be crowne
 d cancer’s unsung hero.Lip Sync Heroes will be held on April 2\, 2017 at
  Toronto’s Carlu and hosted by philanthropic leaders in Toronto. All fun
 ds raised through Lip Sync Heroes will support the Canadian Shaare Zedek H
 ospital Foundation and the Canadian Cancer Socie...
DTSTART;TZID=America/Toronto:20170402T173000
DTEND;TZID=America/Toronto:20170402T230000
END:VEVENT
END:VCALENDAR
