BEGIN:VCALENDAR
PRODID:-//eluceo/ical//2.0/EN
VERSION:2.0
CALSCALE:GREGORIAN
BEGIN:VEVENT
UID:512a7095075cdbadd50d1a7784916e2a
DTSTAMP:20260423T085726Z
SUMMARY:Lip Sync Heroes Gala
DESCRIPTION:UJA Federation of Greater Toronto\nJewish Toronto Calendar\nhtt
 ps://jewishtoronto.com/calendar/lip-sync-heroes-gala-1471270572\n\nLip Syn
 c Heroes is a one-of-a-kind gala that will have four high-profile contesta
 nts compete in an epic lip sync battle to beat cancer! 
DTSTART;TZID=America/Toronto:20170402T183000
DTEND;TZID=America/Toronto:20170403T143000
END:VEVENT
END:VCALENDAR
