BEGIN:VCALENDAR
PRODID:-//eluceo/ical//2.0/EN
VERSION:2.0
CALSCALE:GREGORIAN
BEGIN:VEVENT
UID:a89834bcab47b35652db430d33e0c79e
DTSTAMP:20260424T181121Z
SUMMARY:Lion of Judah Networking Event
DESCRIPTION:UJA Federation of Greater Toronto\nJewish Toronto Calendar\nhtt
 ps://jewishtoronto.com/calendar/lion-of-judah-networking-event\n\nLion of 
 Judah Networking Event
DTSTART;TZID=America/Toronto:20141112T173000
DTEND;TZID=America/Toronto:20141112T193000
END:VEVENT
END:VCALENDAR
