BEGIN:VCALENDAR
PRODID:-//eluceo/ical//2.0/EN
VERSION:2.0
CALSCALE:GREGORIAN
BEGIN:VEVENT
UID:96ca869cd89e817fd6bf5b020d291b03
DTSTAMP:20260423T071640Z
SUMMARY:Limmud FSU Canada Conference
DESCRIPTION:UJA Federation of Greater Toronto\nJewish Toronto Calendar\nhtt
 ps://jewishtoronto.com/calendar/limmud-fsu-canada-conference-1485889428\n\
 nA truly innovative event\, organized and run entirely by volunteers\, Lim
 mud FSU Canada invites you to explore an array of topics through interacti
 ve workshops\, intellectually-stimulating discussions\, a festive Shabbat 
 celebration\, film screenings\, artistic performances\, music\, dancing an
 d much much more.\n\nChoose from 80+ interactive sessions on Israel and gl
 obal politics\, philosophy\, art\, Jewish traditions\, literature and busi
 ness.\n\n\nParticipate in workshops\, jam sessions\, festive gala a...
DTSTART;TZID=America/Toronto:20170324T090000
DTEND;TZID=America/Toronto:20170326T170000
END:VEVENT
END:VCALENDAR
