BEGIN:VCALENDAR
PRODID:-//eluceo/ical//2.0/EN
VERSION:2.0
CALSCALE:GREGORIAN
BEGIN:VEVENT
UID:3b55a88a65dd83732f5aec6193df47e7
DTSTAMP:20260425T165211Z
SUMMARY:"Lights" of Chanukah - Next Gen Conversation on Cannabis
DESCRIPTION:UJA Federation of Greater Toronto\nJewish Toronto Calendar\nhtt
 ps://jewishtoronto.com/calendar/lights-of-chanukah---next-gen-conversation
 -on-cannabis-1542229216\n\nAs Jews and young professionals\, we have a uni
 que responsibility to tackle the issues of the day. With the legalization 
 of cannabis\, we have faced many important questions including: how is can
 nabis newly acceptable\, or perhaps it always was? What expectations are o
 ut there with regards to professionalism and cannabis? Do kiddish wine and
  cannabis mix? Let’s tackle these questions and more with our panel of e
 xperts including Jay Rosenthal (Co Founder and President of Business of Ca
 nnabis) a...
DTSTART;TZID=America/Toronto:20181206T180000
DTEND;TZID=America/Toronto:20181208T200000
END:VEVENT
END:VCALENDAR
