BEGIN:VCALENDAR
PRODID:-//eluceo/ical//2.0/EN
VERSION:2.0
CALSCALE:GREGORIAN
BEGIN:VEVENT
UID:3ad8be6baabe191c91f8857b80c597e4
DTSTAMP:20260421T181331Z
SUMMARY:Light Up Yonge and Eglinton - Chanukah Celebration
DESCRIPTION:UJA Federation of Greater Toronto\nJewish Toronto Calendar\nhtt
 ps://jewishtoronto.com/calendar/light-up-yonge-and-eglinton---chanukah-cel
 ebration-1765907783\n\nExperience the magic of Chanukah in the heart of To
 ronto! Join us for a festive community celebration featuring a Giant 12-Fo
 ot Menorah Lighting\, fire show\, gelt drop\, DJ & music\, juggling\, ball
 oon twisting\, Chanukah giveaways\, fresh donuts\, crispy latkes\, and Aro
 ma coffee & hot cocoa.Additional security will be on site\, including Toro
 nto Police Service officers and Shomrim Toronto Safety Patrol.
DTSTART;TZID=America/Toronto:20251217T170000
DTEND;TZID=America/Toronto:20251217T181500
END:VEVENT
END:VCALENDAR
