BEGIN:VCALENDAR
PRODID:-//eluceo/ical//2.0/EN
VERSION:2.0
CALSCALE:GREGORIAN
BEGIN:VEVENT
UID:c6d6d23d2ac90fcaa5b68217161a3c48
DTSTAMP:20260422T181829Z
SUMMARY:Lifting the Veil of Deception: Seeing Is Not Always Believing
DESCRIPTION:UJA Federation of Greater Toronto\nJewish Toronto Calendar\nhtt
 ps://jewishtoronto.com/calendar/lifting-the-veil-of-deception-seeing-is-no
 t-always-believing-1457373140\n\nAmotz Eyal\, founder and CEO of Tazpit Pr
 ess Services\, will deliver a breakfast lecture at Shaarei Shomyim about h
 is organization's fight for balanced and fair news coverage of Israeli aff
 airs.\nPlease register with Miriam in the Shaarei Shomayim office: 416-789
 -3213.
DTSTART;TZID=America/Toronto:20160320T091500
DTEND;TZID=America/Toronto:20160320T110000
END:VEVENT
END:VCALENDAR
