BEGIN:VCALENDAR
PRODID:-//eluceo/ical//2.0/EN
VERSION:2.0
CALSCALE:GREGORIAN
BEGIN:VEVENT
UID:1fbb5aec05eb9bf1cc498093341c0ba5
DTSTAMP:20260419T201735Z
SUMMARY:Lifedance Empowerment Workshop
DESCRIPTION:UJA Federation of Greater Toronto\nJewish Toronto Calendar\nhtt
 ps://jewishtoronto.com/calendar/lifedance-empowerment-workshop\n\nTORONTO 
 AGENDA\nSunday\, March 3\, 2019\n \nMorning\n9:00 - 10:30\nIntroduction to
  LifeDance and Shira's Story\n​\nInteractive Lecture 1\nFirst – unders
 tanding how our brain chemicals work – happiness\, fear\, and survival. 
 Then – how do these affect our human responses? And finally – how we i
 nterpret our day-to-day life experiences.\n \n10:45 - 12:15\nDance and Mov
 ement – the LifeDance Experience\n \nLunch Break\n \nAfternoon\n1:15 - 2
 :15\nInteractive Lecture 2\nWe explore the...
DTSTART;TZID=America/Toronto:20190303T090000
DTEND;TZID=America/Toronto:20190303T235900
END:VEVENT
END:VCALENDAR
