BEGIN:VCALENDAR
PRODID:-//eluceo/ical//2.0/EN
VERSION:2.0
CALSCALE:GREGORIAN
BEGIN:VEVENT
UID:315b888dfc26e41cf56f02438eb0bf9b
DTSTAMP:20260421T221212Z
SUMMARY:Friends of Yiddish Purim Freylekhs celebrates Life and Music of Mol
 ly Picon
DESCRIPTION:UJA Federation of Greater Toronto\nJewish Toronto Calendar\nhtt
 ps://jewishtoronto.com/calendar/life-and-music-of-molly-picon\n\nFriends o
 f Yiddish Purim Freylekhs: Cantor Deborah Staiman and her ensemble celebra
 te the Life and Music of Molly Picon\n\nFriends of Yiddish proudly present
 s an enchanting concert which highlights classic Yiddish favourites render
 ed so famously by the “Queen of Second Avenue” in the heydays of our r
 ich theatrical tradition. The vocalist is beautifully accompanied by piani
 st\, Mark Camilleri and violinist\, Jessica Deutsh.   ~~ in Yiddish with 
 English explanation and commentary~~\n\nFree P...
DTSTART;TZID=America/Toronto:20150308T140000
DTEND;TZID=America/Toronto:20150308T160000
END:VEVENT
END:VCALENDAR
