BEGIN:VCALENDAR
PRODID:-//eluceo/ical//2.0/EN
VERSION:2.0
CALSCALE:GREGORIAN
BEGIN:VEVENT
UID:626174080ee33fc970d313491e6bfad8
DTSTAMP:20260421T234104Z
SUMMARY:Library Book & Film Club
DESCRIPTION:UJA Federation of Greater Toronto\nJewish Toronto Calendar\nhtt
 ps://jewishtoronto.com/calendar/library-book--film-club-1455202317\n\nMond
 ay\, April 25 Beth Tzedec Book & Film Club will review Second Person Singu
 lar by Sayed Kashua with Cathy Tile. Lunch 1:00pm lecture 1:30\, $ 25\, RS
 VP requested 416-781-3511.
DTSTART;TZID=America/Toronto:20160425T130000
DTEND;TZID=America/Toronto:20160425T160000
END:VEVENT
END:VCALENDAR
