BEGIN:VCALENDAR
PRODID:-//eluceo/ical//2.0/EN
VERSION:2.0
CALSCALE:GREGORIAN
BEGIN:VEVENT
UID:42e03c6693e8652cab6929cfd13267b4
DTSTAMP:20260423T094839Z
SUMMARY:Liberation75
DESCRIPTION:UJA Federation of Greater Toronto\nJewish Toronto Calendar\nhtt
 ps://jewishtoronto.com/calendar/liberation75-1532106356\n\nLiberation75: G
 lobal Gathering of Holocaust Survivors\, Descendants\, Educators and Frien
 ds Liberation75: Global Gathering of Holocaust Survivors\, Descendants\, E
 ducators and Friends\, is a multi-day\, global\, not-for-profit event dedi
 cated to commemorating and celebrating the 75th anniversary of liberation 
 from genocide for the Jews\, and the liberation from tyranny for all manki
 nd.\n\nJoin thousands of attendees to learn\, discuss\, commemorate\, cele
 brate! Be part of this once-in-a-lifetime event!...
DTSTART;TZID=America/Toronto:20200531T140000
DTEND;TZID=America/Toronto:20200602T170000
END:VEVENT
END:VCALENDAR
