BEGIN:VCALENDAR
PRODID:-//eluceo/ical//2.0/EN
VERSION:2.0
CALSCALE:GREGORIAN
BEGIN:VEVENT
UID:66ebe7113f5d24650a83cabe9f7f8761
DTSTAMP:20260425T205245Z
SUMMARY:Liberation75 - Postponed until 2021
DESCRIPTION:UJA Federation of Greater Toronto\nJewish Toronto Calendar\nhtt
 ps://jewishtoronto.com/calendar/liberation75---postponed-until-2021-158826
 4759\n\nLiberation75\, originally planned for May 31-June 2\, 2020\, has b
 een postponed due to Covid-19.\n\nRegister for updates at www.liberation75
 .org and stay tuned for new dates in Spring 2021!
DTSTART;TZID=America/Toronto:20210501T000000
DTEND;TZID=America/Toronto:20210503T000000
END:VEVENT
END:VCALENDAR
