BEGIN:VCALENDAR
PRODID:-//eluceo/ical//2.0/EN
VERSION:2.0
CALSCALE:GREGORIAN
BEGIN:VEVENT
UID:7c32e68a1dcdb7645e52ad48566bee76
DTSTAMP:20260421T125149Z
SUMMARY:LGBTQ+Allies Potluck Shabbat
DESCRIPTION:UJA Federation of Greater Toronto\nJewish Toronto Calendar\nhtt
 ps://jewishtoronto.com/calendar/lgbtqallies-potluck-shabbat-1521213633\n\n
 Come alone or with a friend for a relaxed\, soulful\, and playful Shabbat 
 experience. LGBTQ+ individuals and allies of all backgrounds\, and Jewish 
 affiliations are welcome. Dinner is preceded by a contemplative\, songful 
 Shabbat service\, led by Annex Shul. Register on Eventbrite.\nServices at 
 6:00 pm. Dinner at 7:30 pm.\nHeld at the Wolfond Centre.
DTSTART;TZID=America/Toronto:20180316T180000
DTEND;TZID=America/Toronto:20180316T220000
END:VEVENT
END:VCALENDAR
