BEGIN:VCALENDAR
PRODID:-//eluceo/ical//2.0/EN
VERSION:2.0
CALSCALE:GREGORIAN
BEGIN:VEVENT
UID:9bfc707d17a777e4a91c29d207e54c7e
DTSTAMP:20260425T223333Z
SUMMARY:LGBTQ and Family Purim Shabbat Dinner
DESCRIPTION:UJA Federation of Greater Toronto\nJewish Toronto Calendar\nhtt
 ps://jewishtoronto.com/calendar/lgbtq-and-family-purim-shabbat-dinner-1582
 651660\n\nMASQUERADE\n\nLGBTQ+ AND FAMILY\n\nPURIM SHABBAT DINNER
DTSTART;TZID=America/Toronto:20200306T184500
DTEND;TZID=America/Toronto:20200306T210000
END:VEVENT
END:VCALENDAR
