BEGIN:VCALENDAR
PRODID:-//eluceo/ical//2.0/EN
VERSION:2.0
CALSCALE:GREGORIAN
BEGIN:VEVENT
UID:3461a1423fcde5ee3bb0574819112f93
DTSTAMP:20260424T115128Z
SUMMARY:LGBT Trip to Israel Open House
DESCRIPTION:UJA Federation of Greater Toronto\nJewish Toronto Calendar\nhtt
 ps://jewishtoronto.com/calendar/lgbt-trip-to-israel-open-house\n\nWant to 
 see Israel and all its amazing sites? Want to party at the Tel-Aviv Pride 
 parade? Join Kulanu Toronto for an Open House for a non-denominational LGB
 T TRIP TO ISRAEL happening June 5-17\, 2014. RSVPs preferred.\n\nhttp://ww
 w.talkofthetowntravel.com
DTSTART;TZID=America/Toronto:20140218T190000
DTEND;TZID=America/Toronto:20140218T210000
END:VEVENT
END:VCALENDAR
