BEGIN:VCALENDAR
PRODID:-//eluceo/ical//2.0/EN
VERSION:2.0
CALSCALE:GREGORIAN
BEGIN:VEVENT
UID:12a1e9876aeb37da7442c620903fe9bf
DTSTAMP:20260424T121952Z
SUMMARY:Levity
DESCRIPTION:UJA Federation of Greater Toronto\nJewish Toronto Calendar\nhtt
 ps://jewishtoronto.com/calendar/levitynm\n\nTwo shows taking place on Wed
 nesday\, December 4 and Thursday\, December 5\, 2024\nStart time is 7:00pm
DTSTART;TZID=America/Toronto:20241204T190000
DTEND;TZID=America/Toronto:20241205T220000
END:VEVENT
END:VCALENDAR
