BEGIN:VCALENDAR
PRODID:-//eluceo/ical//2.0/EN
VERSION:2.0
CALSCALE:GREGORIAN
BEGIN:VEVENT
UID:78685987e889bd41202246c77ee58c1f
DTSTAMP:20260421T050425Z
SUMMARY:Levac Attack - Mount Sinai Hospital Foundation
DESCRIPTION:UJA Federation of Greater Toronto\nJewish Toronto Calendar\nhtt
 ps://jewishtoronto.com/calendar/levac-attack-mount-sinai-hospital-foundati
 on\n\nThe sixth annual Levac Attack is a charity walk/run/bike which has f
 our distances for participants to select from and complete (5km\, 10km\, 1
 5km\, 20km). John and Lorna Levac host this race in their Mississauga neig
 hbourhood\, with the support of friends and neighbours.
DTSTART;TZID=America/Toronto:20150926T090000
DTEND;TZID=America/Toronto:20150926T160000
END:VEVENT
END:VCALENDAR
