BEGIN:VCALENDAR
PRODID:-//eluceo/ical//2.0/EN
VERSION:2.0
CALSCALE:GREGORIAN
BEGIN:VEVENT
UID:d596c6c3e722385cde7d486d94faffa7
DTSTAMP:20260420T201941Z
SUMMARY:Let's Travel Israel 
DESCRIPTION:UJA Federation of Greater Toronto\nJewish Toronto Calendar\nhtt
 ps://jewishtoronto.com/calendar/lets-travel-israel-1445522934\n\nOctober 2
 5&mdash\;Let&rsquo\;s Travel to Jerusalem\nWe begin our journey through Is
 rael by exploring the old city of\nJerusalem. Kids will be given the oppor
 tunity to dig into Jerusalem&#039\;s past at a private archaeological dig 
 and create their own treasure out of clay.\n\nNovember 1&mdash\;Let&rsquo\
 ;s Travel to Tel Aviv\nGet ready for a work-out as we learn authentic Krav
  Maga\, a\nsystem of self-defence developed by the Israeli Defense Forces\
 nin Israel&#039\;s most dynamic city.\n\nNovember 8&mdash\;Let&rsquo\;s Tr
 avel to Haifa\nMacabi...
DTSTART;TZID=America/Toronto:20151025T120000
DTEND;TZID=America/Toronto:20151025T140000
END:VEVENT
END:VCALENDAR
