BEGIN:VCALENDAR
PRODID:-//eluceo/ical//2.0/EN
VERSION:2.0
CALSCALE:GREGORIAN
BEGIN:VEVENT
UID:ad23447deda234405d61397542d68f8f
DTSTAMP:20260420T235304Z
SUMMARY:Let's Nach!
DESCRIPTION:UJA Federation of Greater Toronto\nJewish Toronto Calendar\nhtt
 ps://jewishtoronto.com/calendar/lets-nach-1452102244\n\nHelp support Women
 's and Infant's Health at Mount Sinai Hospital!\n\n2011 marked the humble 
 beginnings of “Let’s Nach Dinner\, Dance and Entertainment Extravaganz
 a”. The ever growing support from sponsors and public alike has been ins
 trumental in boosting our confidence to continue this event for the 6th co
 nsecutive year.
DTSTART;TZID=America/Toronto:20160402T173000
DTEND;TZID=America/Toronto:20160402T233000
END:VEVENT
END:VCALENDAR
