BEGIN:VCALENDAR
PRODID:-//eluceo/ical//2.0/EN
VERSION:2.0
CALSCALE:GREGORIAN
BEGIN:VEVENT
UID:e7ac41d76110e894311b8f698aa383fa
DTSTAMP:20260420T202516Z
SUMMARY:Let’s Nach!
DESCRIPTION:UJA Federation of Greater Toronto\nJewish Toronto Calendar\nhtt
 ps://jewishtoronto.com/calendar/lets-nach\n\n A dinner and dance in suppo
 rt of Women’s & Infants’ Health at Mount Sinai Hospital. 
DTSTART;TZID=America/Toronto:20150418T180000
DTEND;TZID=America/Toronto:20150418T210000
END:VEVENT
END:VCALENDAR
