BEGIN:VCALENDAR
PRODID:-//eluceo/ical//2.0/EN
VERSION:2.0
CALSCALE:GREGORIAN
BEGIN:VEVENT
UID:a9c8ddc2f2753e162f2324f50d6f3db4
DTSTAMP:20260424T132553Z
SUMMARY:Let it Be: Beatlemania at Adath Israel
DESCRIPTION:UJA Federation of Greater Toronto\nJewish Toronto Calendar\nhtt
 ps://jewishtoronto.com/calendar/let-it-be-beatlemania-at-adath-israel-1762
 265644\n\nIt isn’t just a party\, it’s a full-blown\, far-out\, fab-ta
 stic tribute to the Beatles and the era that rocked the world. Step into a
  psychedelic time warp and relive the magic of the mop tops with Trivia\, 
 Karaoke\, DJ\, dancing and refreshments.\n\nFor more information or to reg
 siter\, click here.
DTSTART;TZID=America/Toronto:20251115T193000
DTEND;TZID=America/Toronto:20251115T223000
END:VEVENT
END:VCALENDAR
