BEGIN:VCALENDAR
PRODID:-//eluceo/ical//2.0/EN
VERSION:2.0
CALSCALE:GREGORIAN
BEGIN:VEVENT
UID:3eb8f4f45f8fe0c11b66abed56bbac04
DTSTAMP:20260422T050709Z
SUMMARY:Leonard Cohen & Bob Dylan – The Two Jewish Folk Poets
DESCRIPTION:UJA Federation of Greater Toronto\nJewish Toronto Calendar\nhtt
 ps://jewishtoronto.com/calendar/leonard-cohen--bob-dylan--the-two-jewish-f
 olk-poets-1503322940\n\nFeaturing duo Dwight & Sue. A tribute folk concert
  celebrating two great Jewish literary songwriters. Thurs\, Sept 14\, door
 s: 1:00 pm\; program: 1:30 - 3:30 pm.
DTSTART;TZID=America/Toronto:20170914T130000
DTEND;TZID=America/Toronto:20170914T153000
END:VEVENT
END:VCALENDAR
