BEGIN:VCALENDAR
PRODID:-//eluceo/ical//2.0/EN
VERSION:2.0
CALSCALE:GREGORIAN
BEGIN:VEVENT
UID:e20009ee53d58a8beaae3fae86970139
DTSTAMP:20260420T102824Z
SUMMARY:Leon Eisner Memorial Lecture with Mordechail Ben-Dat
DESCRIPTION:UJA Federation of Greater Toronto\nJewish Toronto Calendar\nhtt
 ps://jewishtoronto.com/calendar/leon-eisner-memorial-lecture-with-mordecha
 il-ben-dat\n\nTopic:  Thinking about Mendel Beilis\nAll Welcome. RSVP to 
 the office. No charge.\n 
DTSTART;TZID=America/Toronto:20150309T200000
DTEND;TZID=America/Toronto:20150309T220000
END:VEVENT
END:VCALENDAR
