BEGIN:VCALENDAR
PRODID:-//eluceo/ical//2.0/EN
VERSION:2.0
CALSCALE:GREGORIAN
BEGIN:VEVENT
UID:cc8497106dae90fb32f361b136583b53
DTSTAMP:20260422T004836Z
SUMMARY:Legends of the Sixties! Music\, Coffeehouse event
DESCRIPTION:UJA Federation of Greater Toronto\nJewish Toronto Calendar\nhtt
 ps://jewishtoronto.com/calendar/legends-of-the-sixties-music-coffeehouse-e
 vent\n\nPicture yourself transported back in time to the musical coffee ho
 use era and legends of the sixties! with a twist of catered middle eastern
  treats\, listening to famous musicologists and folk singers Jill and Dr. 
 Mike Daley musical escapade. Music and sing along to greats such as Leonar
 d Cohen\, Joni Mitchell and more..Join us for this special Sisterhood even
 t on May 16th 7pm at Holy Blossom Temple.
DTSTART;TZID=America/Toronto:20190516T190000
DTEND;TZID=America/Toronto:20190516T190000
END:VEVENT
END:VCALENDAR
