BEGIN:VCALENDAR
PRODID:-//eluceo/ical//2.0/EN
VERSION:2.0
CALSCALE:GREGORIAN
BEGIN:VEVENT
UID:22c52053b91dccf9f62db15c761ea442
DTSTAMP:20260420T040739Z
SUMMARY:Legal Forum: the legal issues effecting Israeli elections
DESCRIPTION:UJA Federation of Greater Toronto\nJewish Toronto Calendar\nhtt
 ps://jewishtoronto.com/calendar/legal-forum-the-legal-issues-effecting-isr
 aeli-elections-1575997469\n\nCurious to know more about the ongoing proble
 matic legal situation in Israel? The Legal Forum representatives will cove
 r this trial that the prime minister of Israel is facing and the mess of e
 lection the country is facing. 
DTSTART;TZID=America/Toronto:20191211T200000
DTEND;TZID=America/Toronto:20191211T211500
END:VEVENT
END:VCALENDAR
