BEGIN:VCALENDAR
PRODID:-//eluceo/ical//2.0/EN
VERSION:2.0
CALSCALE:GREGORIAN
BEGIN:VEVENT
UID:d9a0e9bba69eb9f02b44b024e223119a
DTSTAMP:20260422T000406Z
SUMMARY:Legal Advocacy for Israel
DESCRIPTION:UJA Federation of Greater Toronto\nJewish Toronto Calendar\nhtt
 ps://jewishtoronto.com/calendar/legal-advocacy-for-israel-1446650143\n\nCI
 JA\, the Israeli Consulate\, and UJA Federation of Greater Toronto are ple
 ased to be hosting Legal Advocacy for Israel\, a workshop that will includ
 e useful sessions like: Israel and the Palestinians &ndash\; Prospects and
  Challenges\, Prosecution of Hate Speech under the Criminal Code\, and Com
 batting BDS through the Law.
DTSTART;TZID=America/Toronto:20151123T080000
DTEND;TZID=America/Toronto:20151123T130000
END:VEVENT
END:VCALENDAR
