BEGIN:VCALENDAR
PRODID:-//eluceo/ical//2.0/EN
VERSION:2.0
CALSCALE:GREGORIAN
BEGIN:VEVENT
UID:440f238b0b35507bbac76a3a5b1f55f5
DTSTAMP:20260421T080612Z
SUMMARY:Lecture Series: Innovations & New Discoveries with Dr. Sergio Peisa
 jovitch
DESCRIPTION:UJA Federation of Greater Toronto\nJewish Toronto Calendar\nhtt
 ps://jewishtoronto.com/calendar/lecture-series-innovations-new-discoveries
 -with-dr-sergio-peisajovitch\n\nPlease RSVP.\n\nThis lecture series is in 
 partnership with Israel's Weizmann Institute.
DTSTART;TZID=America/Toronto:20141020T133000
DTEND;TZID=America/Toronto:20141020T143000
END:VEVENT
END:VCALENDAR
