BEGIN:VCALENDAR
PRODID:-//eluceo/ical//2.0/EN
VERSION:2.0
CALSCALE:GREGORIAN
BEGIN:VEVENT
UID:811bf6cfba7b7ca99b5a24f264b5bc23
DTSTAMP:20260425T171334Z
SUMMARY:Lecture on the Book of Ruth
DESCRIPTION:UJA Federation of Greater Toronto\nJewish Toronto Calendar\nhtt
 ps://jewishtoronto.com/calendar/lecture-on-the-book-of-ruth-may-22\n\nLect
 ure 3 in a series of 3 lectures\, Rabbi Wayne Allen provides an in-depth e
 xamination of the Book of Ruth and its impact on Jewish identity. Free adm
 ission\, open to all.
DTSTART;TZID=America/Toronto:20140522T193000
DTEND;TZID=America/Toronto:20140522T223000
END:VEVENT
END:VCALENDAR
