BEGIN:VCALENDAR
PRODID:-//eluceo/ical//2.0/EN
VERSION:2.0
CALSCALE:GREGORIAN
BEGIN:VEVENT
UID:0577f71cefaf8be16dbbd739dc8680e5
DTSTAMP:20260422T003535Z
SUMMARY:Lecture on the Book of Ruth
DESCRIPTION:UJA Federation of Greater Toronto\nJewish Toronto Calendar\nhtt
 ps://jewishtoronto.com/calendar/lecture-on-the-book-of-ruth-may-15\n\nLect
 ure 2 in a series of 3 lectures\, Rabbi Wayne Allen provides an in-depth e
 xamination of the Book of Ruth and its impact on Jewish identity. Free adm
 ission\, open to all.
DTSTART;TZID=America/Toronto:20140515T193000
DTEND;TZID=America/Toronto:20140515T223000
END:VEVENT
END:VCALENDAR
